BEGIN:VCALENDAR
VERSION:2.0
PRODID:-//PremierPossible.com - ECPv6.15.20//NONSGML v1.0//EN
CALSCALE:GREGORIAN
METHOD:PUBLISH
X-WR-CALNAME:PremierPossible.com
X-ORIGINAL-URL:https://premierpossible.com
X-WR-CALDESC:Events for PremierPossible.com
REFRESH-INTERVAL;VALUE=DURATION:PT1H
X-Robots-Tag:noindex
X-PUBLISHED-TTL:PT1H
BEGIN:VTIMEZONE
TZID:Europe/London
BEGIN:DAYLIGHT
TZOFFSETFROM:+0000
TZOFFSETTO:+0100
TZNAME:BST
DTSTART:20230326T010000
END:DAYLIGHT
BEGIN:STANDARD
TZOFFSETFROM:+0100
TZOFFSETTO:+0000
TZNAME:GMT
DTSTART:20231029T010000
END:STANDARD
BEGIN:DAYLIGHT
TZOFFSETFROM:+0000
TZOFFSETTO:+0100
TZNAME:BST
DTSTART:20240331T010000
END:DAYLIGHT
BEGIN:STANDARD
TZOFFSETFROM:+0100
TZOFFSETTO:+0000
TZNAME:GMT
DTSTART:20241027T010000
END:STANDARD
BEGIN:DAYLIGHT
TZOFFSETFROM:+0000
TZOFFSETTO:+0100
TZNAME:BST
DTSTART:20250330T010000
END:DAYLIGHT
BEGIN:STANDARD
TZOFFSETFROM:+0100
TZOFFSETTO:+0000
TZNAME:GMT
DTSTART:20251026T010000
END:STANDARD
END:VTIMEZONE
BEGIN:VEVENT
DTSTART;TZID=Europe/London:20240817T100000
DTEND;TZID=Europe/London:20240817T150000
DTSTAMP:20260422T061230
CREATED:20240811T102748Z
LAST-MODIFIED:20240811T102748Z
UID:2715-1723888800-1723906800@premierpossible.com
SUMMARY:Real Estate Investing Quickstart by The Flip Coach | Miami
DESCRIPTION:This event will teach you how to get into the real estate world the right way. You will find out how you can quit wasting your time on questionable sources and learn in two hours what you never did from YouTube University. The Flip Coach will speak on wholesaling\, fix-and-flip\, and buy-and-hold strategies. What you will learn at this event will get you started right in real estate. If you want to change your life\, achieve financial freedom\, and work for yourself\, then you absolutely need to come to this FREE event\, and you will see a very clear path on how to become a Real Estate Investor. \n \nWhat You Will Learn At This Event: \n\nWhat it takes to be a Real Estate Investor\nWhat you need to start or scale a Real Estate Business\nHow to Raise Money for your Real Estate Business\nWholesaling Properties\nThe Fix and Flip Market\nIs now a good time for Buy and Hold Investing\nHow to Avoid Pitfalls of Real Estate Business\nHow to find Profitable Deals
URL:https://premierpossible.com/real-estate-event/real-estate-investing-quickstart-by-the-flip-coach-miami/
LOCATION:Hyatt Place Miami Airport-West/Doral\, 3655 Northwest 82nd Avenue Miami\, FL 33166 United States\, Miami\, FL\, United States
CATEGORIES:All Real Estate Events,United States
ATTACH;FMTTYPE=image/jpeg:https://premierpossible.com/wp-content/uploads/2024/07/events-calendar-standard-image-2.jpg
END:VEVENT
END:VCALENDAR